BEGIN:VCALENDAR
VERSION:2.0
PRODID:-//Educate Home Buyers - ECPv6.15.20//NONSGML v1.0//EN
CALSCALE:GREGORIAN
METHOD:PUBLISH
X-ORIGINAL-URL:https://educatehomebuyers.org
X-WR-CALDESC:Events for Educate Home Buyers
REFRESH-INTERVAL;VALUE=DURATION:PT1H
X-Robots-Tag:noindex
X-PUBLISHED-TTL:PT1H
BEGIN:VTIMEZONE
TZID:America/Los_Angeles
BEGIN:DAYLIGHT
TZOFFSETFROM:-0800
TZOFFSETTO:-0700
TZNAME:PDT
DTSTART:20250309T100000
END:DAYLIGHT
BEGIN:STANDARD
TZOFFSETFROM:-0700
TZOFFSETTO:-0800
TZNAME:PST
DTSTART:20251102T090000
END:STANDARD
BEGIN:DAYLIGHT
TZOFFSETFROM:-0800
TZOFFSETTO:-0700
TZNAME:PDT
DTSTART:20260308T100000
END:DAYLIGHT
BEGIN:STANDARD
TZOFFSETFROM:-0700
TZOFFSETTO:-0800
TZNAME:PST
DTSTART:20261101T090000
END:STANDARD
BEGIN:DAYLIGHT
TZOFFSETFROM:-0800
TZOFFSETTO:-0700
TZNAME:PDT
DTSTART:20270314T100000
END:DAYLIGHT
BEGIN:STANDARD
TZOFFSETFROM:-0700
TZOFFSETTO:-0800
TZNAME:PST
DTSTART:20271107T090000
END:STANDARD
END:VTIMEZONE
BEGIN:VEVENT
DTSTART;TZID=America/Los_Angeles:20260308T100000
DTEND;TZID=America/Los_Angeles:20260308T150000
DTSTAMP:20260423T011534
CREATED:20260223T162941Z
LAST-MODIFIED:20260223T165115Z
UID:2855-1772964000-1772982000@educatehomebuyers.org
SUMMARY:Washington State First Time Home Buyer Down Payment Assistance Class
DESCRIPTION:Register in advance for this meeting:\nhttps://us02web.zoom.us/meeting/register/Pe6CkzS5TvaFdyoB8CG-cQ\nAfter registering\, you will receive a confirmation email containing information about joining the meeting.\n🏡 Thinking About Buying Your First Home? Let’s Make It Less Scary. \nBuying your first home can feel like learning a new language—mortgage-speak\, inspection lingo\, and “escrow” (whatever that is). Don’t worry—we’ll translate. \nJoin our First-Time Home Buyer Education Class and get the real talk on: \n\nHow much home you can actually afford (without living on ramen)\nDown payment assistance programs that don’t require selling a kidney\nCredit tips\, loan types\, and how to avoid “pre-approval panic”\nWhat to expect from offer to closing (and what not to Google at 2am)\n\n✅ Approved by Washington State Housing Finance Commission\n✅ Required for down payment assistance\n✅ Live and interactive—ask questions and get real answers \n  \n#TacomaFirstTimeBuyer #PuyallupHomeBuyer  #MapleValleyHomeBuyer #WSHFCApprovedClass #WAHomeBuyerClassNearMe #WAHomeLoanEducation #DownPaymentAssistance #HeretoHome #kentHomebuyer #TukwilaFirstTimeHomeBuyer #RentonFirstTimeHomeBuyer
URL:https://educatehomebuyers.org/event/washington-down-payment-assistance-class-6/
LOCATION:Virtual Online Class
CATEGORIES:Home Buyer Education,Jody
ORGANIZER;CN="Jody Tiedeman":MAILTO:jody.tiedeman@newrez.com
END:VEVENT
BEGIN:VEVENT
DTSTART;TZID=America/Los_Angeles:20260315T100000
DTEND;TZID=America/Los_Angeles:20260315T150000
DTSTAMP:20260423T011534
CREATED:20260223T163341Z
LAST-MODIFIED:20260223T165040Z
UID:2857-1773568800-1773586800@educatehomebuyers.org
SUMMARY:First Steps to Homeownership: A Virtual Class for Washington State Buyers
DESCRIPTION:Register in advance for this meeting:\nhttps://us02web.zoom.us/meeting/register/w42EfVbMQ0GIg60L2rdkuA\nAfter registering\, you will receive a confirmation email containing information about joining the meeting.\nAre you tired of paying your landlord and ready to take the leap into homeownership? This free class will make sure you have all the necessary knowledge and tools to make informed decisions about purchasing a home in Washington State. \nIn this comprehensive course\, you will learn about: \n\nThe home buying process from start to finish.\nThe responsibilities and costs of homeownership\nHow to get pre-approved for a mortgage\nHow to find and purchase the right home for you\nAnd much more!\n\nOur experienced instructors will provide you with personalized attention\, answer any questions you may have\, and guide you through the complex world of home buying. By the end of the class\, you’ll have the confidence and knowledge to make the right decisions and find the home of your dreams. \nDon’t miss this opportunity to take control of your future and become a proud homeowner! Sign up for our First-Time Home Buyer Education Class today! \nThis workshop is co-sponsored by the Washington State Housing Finance Commission (WSHFC) and NewRez Home Loan Division. Upon completion\, you will receive a WSHFC home buyer’s education certificate. \nSpouses/partners are welcome to register and attend with you. Register now to secure your spot! \n  \n#BuyaHome #Realestate #FirstTimeBuyer #WashingtonState #WSHFC #KingCounty #PierceCounty #ThurstonCounty #SnohomishCounty #KitsapCounty #LewisCounty #masonCounty #HeretoHome
URL:https://educatehomebuyers.org/event/wa-homebuyer-bootcamp-online-class/
LOCATION:Virtual Online Class
CATEGORIES:Home Buyer Education,Jody
ORGANIZER;CN="Jody Tiedeman":MAILTO:jody.tiedeman@newrez.com
END:VEVENT
BEGIN:VEVENT
DTSTART;TZID=America/Los_Angeles:20260329T100000
DTEND;TZID=America/Los_Angeles:20260329T150000
DTSTAMP:20260423T011534
CREATED:20260223T171511Z
LAST-MODIFIED:20260223T171511Z
UID:2867-1774778400-1774796400@educatehomebuyers.org
SUMMARY:Washington Home Buying Made Easy: An Accredited Virtual Class for First-Time Buyers
DESCRIPTION:Register in advance for this meeting:\nhttps://us02web.zoom.us/meeting/register/lJBlMpcbQ9yZW4J83_yY2g\nAfter registering\, you will receive a confirmation email containing information about joining the meeting.\n🎉 Ready to Buy Your First Home? We Can Help! 🏡 \nDid you know you may qualify for down payment assistance to make your homeownership dreams come true? All you need to do is complete a Home Buyer Education Class – and we’ve got you covered! \n📚 What You’ll Learn:\n✅ Steps to buying your first home\n✅ How to qualify for down payment assistance \n✅ What are closing costs \n✅ How to increase your credit scores\,\n✅ Tips to navigate the home buying process with confidence \n  \n💰 Cost: FREE \nDon’t miss this opportunity to unlock valuable resources and make your dream home a reality.  Use the link above to register for this class! \n  \n#WashingtonHomeBuyers #WARealEstate #WashingtonFirstTimeHomeBuyer #HomeBuyingWA #SeattleRealEstate@TacomaRealEstate #EverettRealEstate #TacomaRealEstate\, #SpokaneRealEstate #HeretoHome
URL:https://educatehomebuyers.org/event/washington-home-buying-made-easy-an-accredited-virtual-class-for-first-time-buyers/
LOCATION:Virtual Online Class
CATEGORIES:Home Buyer Education,Jody
ORGANIZER;CN="Jody Tiedeman":MAILTO:jody.tiedeman@newrez.com
END:VEVENT
BEGIN:VEVENT
DTSTART;TZID=America/Los_Angeles:20260404T083000
DTEND;TZID=America/Los_Angeles:20260404T133000
DTSTAMP:20260423T011534
CREATED:20260312T003917Z
LAST-MODIFIED:20260312T003917Z
UID:2878-1775291400-1775309400@educatehomebuyers.org
SUMMARY:First Steps to Homeownership: A Virtual Class for Washington State Buyers
DESCRIPTION:Register in advance for this meeting:\nhttps://us02web.zoom.us/meeting/register/FDuKh_5lSpmkrrZkKj-Byg\nAfter registering\, you will receive a confirmation email containing information about joining the meeting.\nDreaming of buying your first home but feeling like Google just made you more confused? 😅 Our First-Time Home Buyer Workshop breaks it all down — without the jargon or headaches. \nYou’ll learn:\n🏡 The home buying process (yes\, all the steps)\n💰 Money stuff — loans\, down payments & closing costs\n🎯 How to find and win the right home\n🎁 Programs that can help you buy sooner \nPerfect for Washington buyers who want answers — not overwhelm. \n#FirstTimeHomeBuyer #WashingtonHomeBuyers #WSHFC #HomeBuyerEducation #DownPaymentHelp #WARealEstate
URL:https://educatehomebuyers.org/event/first-time-homebuyer-class-wa-3/
LOCATION:Virtual Online Class
CATEGORIES:Home Buyer Education,Jody
ORGANIZER;CN="Jody Tiedeman":MAILTO:jody.tiedeman@newrez.com
END:VEVENT
BEGIN:VEVENT
DTSTART;TZID=America/Los_Angeles:20260405T100000
DTEND;TZID=America/Los_Angeles:20260405T150000
DTSTAMP:20260423T011534
CREATED:20260312T004322Z
LAST-MODIFIED:20260312T004348Z
UID:2880-1775383200-1775401200@educatehomebuyers.org
SUMMARY:Washington Home Buying Made Easy: A Virtual Class for First-Time Buyers
DESCRIPTION:Register in advance for this meeting:\nhttps://us02web.zoom.us/meeting/register/BUdGXI3kQpqMf1lclr4Png\nAfter registering\, you will receive a confirmation email containing information about joining the meeting.\nThinking About Buying Your First Home?\nFeeling like you need a PhD to understand mortgages? You’re not alone. Our First-Time Homebuyer Workshop breaks it all down—no confusing jargon\, no pressure\, and yes\, snacks may be involved but since it is online you have buy them! \nWhat You’ll Learn (a.k.a. What Google can’t explain clearly): \n\nThe Home Buying Process – From “What’s a pre-approval?” to “I got the keys!”\nFinancial Prep – Budgeting\, loans\, and how not to drain your life savings on closing costs.\nHelp Is Out There – Programs\, grants\, and down payment assistance.\nThe Market Maze – Trends\, neighborhoods\, and making offers that don’t make agents laugh.\nReal-Life Responsibilities – Because homes don’t come with an “easy” button.\nPitfall-Proofing – Learn what not to do\, like buying a house just because it has a hot tub.\n\nWhy You’ll Love It: \n\nReal Experts (not your cousin who just watches HGTV)\nHands-On Learning – Yes\, you’ll leave with actual tools and not just stress\nNew Friends – Meet others who are also Googling “what is escrow?”\nZero Judgement Zone – Ask all the “dumb” questions. (Spoiler: they’re not dumb.)\n\nWho Should Come: \n\nFirst-time buyers who want to stop renting and start investing\nAnyone who gets a little queasy thinking about down payments\nFriends\, family\, partners and co-workers are all welcome!\n\nCome laugh\, learn\, and leave one step closer to your dream home.\nRegister today—because your future self will thank you (and so will your wallet). \n#WashingtonHomeBuyer #DownPaymentHelp #FirstHomeWA #HomeBuyingMadeEasy #LivingInWashington #PNWRealEstate #FirstTimeHomeBuyerWA #DreamHomeWA #DownPaymentAssistanceWA #HomeBuyingTips #RealEstateAdvice #KingCounty #PierceCounty #ThurstonCounty #SnohomishCounty #KitsapCounty
URL:https://educatehomebuyers.org/event/washington-home-buyer-basics-3/
LOCATION:Virtual Online Class
CATEGORIES:Home Buyer Education,Jody
ORGANIZER;CN="Jody Tiedeman":MAILTO:jody.tiedeman@newrez.com
END:VEVENT
BEGIN:VEVENT
DTSTART;TZID=America/Los_Angeles:20260411T083000
DTEND;TZID=America/Los_Angeles:20260411T133000
DTSTAMP:20260423T011534
CREATED:20260312T004539Z
LAST-MODIFIED:20260312T004757Z
UID:2883-1775896200-1775914200@educatehomebuyers.org
SUMMARY:WSHFC Accredited Class on First-Time Home Buying in Washington State
DESCRIPTION:Register in advance for this meeting:\nhttps://us02web.zoom.us/meeting/register/zTWX0gzoQZG0kWwbXUM3nA\nAfter registering\, you will receive a confirmation email containing information about joining the meeting.\nReady to Buy Your First Home?\nFeeling overwhelmed? Our First-Time Homebuyer Workshop is here to guide you! \nWhat You’ll Learn: \n\nThe home buying process—from pre-approval to closing\nBudgeting\, mortgage options\, and closing costs\nDown payment assistance and special loan programs\nUnderstanding the market and making smart offers\nHomeownership responsibilities and ongoing costs\nHow to avoid common mistakes\n\nWhy Attend: \n\nExpert advice from mortgage and real estate pros\nInteractive Q&A and helpful tools\nSupportive community of fellow buyers\n\nWho Should Attend: \n\nFirst-time buyers or renters thinking about homeownership\nAnyone who wants to feel confident in the buying process\n\nTake your first step toward owning a home—join us! \n  \n#WAFinancialEducation #HomeOwnershipGoals #AffordableHousingWA #PNWLife #MoveToWashington #WSHFC #FirstTimeHomeBuyer #DownPaymentAssistance #KingCounty #SnohomishCounty #Pierce County #ThurstonCounty #KittitasCounty #KitsapCounty #LewisCounty
URL:https://educatehomebuyers.org/event/learn-to-buy-first-home-wa/
LOCATION:Virtual Online Class
CATEGORIES:Home Buyer Education,Jody
ORGANIZER;CN="Jody Tiedeman":MAILTO:jody.tiedeman@newrez.com
END:VEVENT
BEGIN:VEVENT
DTSTART;TZID=America/Los_Angeles:20260412T100000
DTEND;TZID=America/Los_Angeles:20260412T150000
DTSTAMP:20260423T011534
CREATED:20260312T004912Z
LAST-MODIFIED:20260312T005436Z
UID:2885-1775988000-1776006000@educatehomebuyers.org
SUMMARY:WSHFC: First-Time Home Buyer Education Online Class Washington State
DESCRIPTION:Register in advance for this meeting:\nhttps://us02web.zoom.us/meeting/register/krrxfmbPTXK1kQup5lDzxg\nAfter registering\, you will receive a confirmation email containing information about joining the meeting.\n📅 Reserve Your Spot \nBring your questions\, your curiosity\, and maybe a coffee. Your future home is waiting! \n🏡 Thinking About Buying Your First Home? Let’s Make It Less Scary. \nBuying your first home can feel like learning a new language—mortgage-speak\, inspection lingo\, and “escrow” (whatever that is). Don’t worry—we’ll translate. \nJoin our First-Time Home Buyer Education Class and get the real talk on: \n\nHow much home you can actually afford (without living on ramen)\nDown payment assistance programs that don’t require selling a kidney\nCredit tips\, loan types\, and how to avoid “pre-approval panic”\nWhat to expect from offer to closing (and what not to Google at 2am)\n\n✅ Approved by Washington State Housing Finance Commission\n✅ Required for down payment assistance\n✅ Live\, online\, and no boring PowerPoints—we promise \n  \n📅 Reserve Your Spot \nBring your questions\, your curiosity\, and maybe a coffee. Your future home is waiting! \n #TacomaFirstTimeBuyer #PuyallupHomeBuyer  #MapleValleyHomeBuyer #WSHFCApprovedClass #WAHomeBuyerClassNearMe #WAHomeLoanEducation \n#DownPaymentAssistance
URL:https://educatehomebuyers.org/event/homebuyer-education-online-2/
LOCATION:Virtual Online Class
CATEGORIES:Home Buyer Education,Jody
ORGANIZER;CN="Jody Tiedeman":MAILTO:jody.tiedeman@newrez.com
END:VEVENT
BEGIN:VEVENT
DTSTART;TZID=America/Los_Angeles:20260502T090000
DTEND;TZID=America/Los_Angeles:20260502T140000
DTSTAMP:20260423T011534
CREATED:20260412T212410Z
LAST-MODIFIED:20260412T212410Z
UID:2893-1777712400-1777730400@educatehomebuyers.org
SUMMARY:First Steps to Homeownership: A Virtual Class for Washington State Buyers
DESCRIPTION:Register in advance for this meeting:\nhttps://us02web.zoom.us/meeting/register/7vEpajlRQBGyeaSIuo1ZDg\nAfter registering\, you will receive a confirmation email containing information about joining the meeting.\n  \n🏡 Ready to Buy Your First Home? Start Here. \nBuying your first home doesn’t have to be overwhelming—we’ll walk you through it step by step. \nJoin our Washington State Housing Finance Commission-approved First-Time Home Buyer Education Class and learn everything you need to know about: \n\nHow to qualify for a mortgage\nDown payment assistance programs\nUnderstanding credit\, budgeting & loan options\nNavigating the real estate market with confidence\nAvoiding costly first-time buyer mistakes\n\n✅ Free to attend\n✅ Required for down payment assistance\n✅ Live and interactive—ask questions and get real answers \n  \n#WashingtonDownPaymentAssistance #First‑TimeHomebuyerEducation #WAState HousingPrograms #HomebuyerGrants&Loans #AffordableHomeownershipWAState #LynnwoodHomeBuyers #EverettRealestate #SnohomishCounty \n  \n  \n 
URL:https://educatehomebuyers.org/event/first-steps-to-homeownership-a-virtual-class-for-washington-state-buyers/
LOCATION:Virtual Online Class
CATEGORIES:Home Buyer Education,Jody
ORGANIZER;CN="Jody Tiedeman":MAILTO:jody.tiedeman@newrez.com
END:VEVENT
BEGIN:VEVENT
DTSTART;TZID=America/Los_Angeles:20260503T100000
DTEND;TZID=America/Los_Angeles:20260503T150000
DTSTAMP:20260423T011534
CREATED:20260412T213910Z
LAST-MODIFIED:20260412T223750Z
UID:2897-1777802400-1777820400@educatehomebuyers.org
SUMMARY:WSHFC & HeretoHome: First-Time Home Buyer Education Online Class Washington State
DESCRIPTION:Register in advance for this meeting:\nhttps://us02web.zoom.us/meeting/register/NsXQkvFuR22yPDWBrJTK6w\nAfter registering\, you will receive a confirmation email containing information about joining the meeting.\nAre you tired of paying your landlord and ready to take the leap into homeownership? This free class will make sure you have all the necessary knowledge and tools to make informed decisions about purchasing a home in Washington State. \nIn this comprehensive course\, you will learn about: \n\nThe home buying process from start to finish.\nThe responsibilities and costs of homeownership\nHow to get pre-approved for a mortgage\nHow to find and purchase the right home for you\nAnd much more!\n\nOur experienced instructors will provide you with personalized attention\, answer any questions you may have\, and guide you through the complex world of home buying. By the end of the class\, you’ll have the confidence and knowledge to make the right decisions and find the home of your dreams. \nDon’t miss this opportunity to take control of your future and become a proud homeowner! Sign up for our First-Time Home Buyer Education Class today! \nThis workshop is co-sponsored by the Washington State Housing Finance Commission (WSHFC) and NewRez Home Loan Division. Upon completion\, you will receive a WSHFC home buyer’s education certificate. \nSpouses/partners are welcome to register and attend with you. Register now to secure your spot! \n  \n#BuyaHome #Realestate #FirstTimeBuyer #WashingtonState #WSHFC #KingCounty #PierceCounty #ThurstonCounty #SnohomishCounty #KitsapCounty #BentonCounty
URL:https://educatehomebuyers.org/event/wa-state-homebuyer-education-workshops/
LOCATION:Virtual Online Class
CATEGORIES:Home Buyer Education,Jody
ORGANIZER;CN="Jody Tiedeman":MAILTO:jody.tiedeman@newrez.com
END:VEVENT
BEGIN:VEVENT
DTSTART;TZID=America/Los_Angeles:20260509T090000
DTEND;TZID=America/Los_Angeles:20260509T140000
DTSTAMP:20260423T011534
CREATED:20260412T212807Z
LAST-MODIFIED:20260412T223500Z
UID:2895-1778317200-1778335200@educatehomebuyers.org
SUMMARY:Free Washington Down Payment Assistance / First-time Home Buyer Education Class
DESCRIPTION:Register in advance for this meeting:\nhttps://us02web.zoom.us/meeting/register/4sVv0aKFTi6EawzHxOHw5w\nAfter registering\, you will receive a confirmation email containing information about joining the meeting.\n🏡 Thinking About Buying Your First Home? Let’s Make It Less Scary. \nBuying your first home can feel like learning a new language—mortgage-speak\, inspection lingo\, and “escrow” (whatever that is). Don’t worry—we’ll translate. \nJoin our First-Time Home Buyer Education Class and get the real talk on: \n\nHow much home you can actually afford (without living on ramen)\nDown payment assistance programs that don’t require selling a kidney\nCredit tips\, loan types\, and how to avoid “pre-approval panic”\nWhat to expect from offer to closing (and what not to Google at 2am)\n\n✅ Approved by Washington State Housing Finance Commission\n✅ Required for down payment assistance\n✅ Live and interactive—ask questions and get real answers \n  \n#TacomaFirstTimeBuyer #PuyallupHomeBuyer  #MapleValleyHomeBuyer #WSHFCApprovedClass #WAHomeBuyerClassNearMe #WAHomeLoanEducation #DownPaymentAssistance #kentHomebuyer #TukwilaFirstTimeHomeBuyer #RentonFirstTimeHomeBuyer
URL:https://educatehomebuyers.org/event/first-time-home-buyer-education-class/
LOCATION:Virtual Online Class
CATEGORIES:Home Buyer Education,Jody
ORGANIZER;CN="Jody Tiedeman":MAILTO:jody.tiedeman@newrez.com
END:VEVENT
BEGIN:VEVENT
DTSTART;TZID=America/Los_Angeles:20260510T100000
DTEND;TZID=America/Los_Angeles:20260510T150000
DTSTAMP:20260423T011534
CREATED:20260412T215706Z
LAST-MODIFIED:20260412T223212Z
UID:2899-1778407200-1778425200@educatehomebuyers.org
SUMMARY:Free Zoom class | WA State Down Payment Assistance explained - No Kidney Required
DESCRIPTION:Register in advance for this meeting:\nhttps://us02web.zoom.us/meeting/register/O27JaIWMQ9atjTZMv68LAA\nAfter registering\, you will receive a confirmation email containing information about joining the meeting.\nPrimary Text:\n💸 Think you need a HUGE down payment to buy a home in Washington? \nGood news… you don’t. \nBad news… Google probably confused you. \nJoin our FREE First-Time Home Buyer Class and learn how Washington State Down Payment Assistance can help you buy a home without draining your savings (or selling a kidney 😅). \nWe’ll show you:\n✅ How much you really need to buy✅ Programs that can cover your down payment✅ Step-by-step process from pre-approval to keys \n👉 If you’re renting in WA\, you need this class. \n#FirstTimeHomeBuyer #WashingtonRealEstate #DownPaymentAssistance #HomeBuyingWA #EducateHomeBuyers #WAHousing #PNWRealEstate #SeattleHomeBuyers #TacomaRealEstate #KingCountyHomes
URL:https://educatehomebuyers.org/event/free-zoom-class-wa-state-down-payment-assistance-explained/
LOCATION:Virtual Online Class
CATEGORIES:Home Buyer Education,Jody
ORGANIZER;CN="Jody Tiedeman":MAILTO:jody.tiedeman@newrez.com
END:VEVENT
BEGIN:VEVENT
DTSTART;TZID=America/Los_Angeles:20260524T100000
DTEND;TZID=America/Los_Angeles:20260524T150000
DTSTAMP:20260423T011534
CREATED:20260412T221039Z
LAST-MODIFIED:20260412T223034Z
UID:2909-1779616800-1779634800@educatehomebuyers.org
SUMMARY:Unlocking Homeownership in Washington: Your First-Time Buyer WSHFC Seminar
DESCRIPTION:Register in advance for this meeting:\nhttps://us02web.zoom.us/meeting/register/60yeprayRkmFUQIJdjulCw\nAfter registering\, you will receive a confirmation email containing information about joining the meeting.\nFrom Renter to Homeowner: Washington State’s Cheat Code (It’s Legal\, We Promise) \nDescription:\nTired of paying rent like it’s a subscription service you can’t cancel? This Washington State home buyer class shows you how to break free. Learn how down payment assistance programs in WA can cover upfront costs and fast-track you into homeownership—no secret handshake required. \n💰 Cost: FREE \nDon’t miss this opportunity to unlock valuable resources and make your dream home a reality.  Use the link above to register for this class! \nPass along our class information to friends\, family and coworkers! Thank you!! \n#FirstTimeHomeBuyer #WashingtonRealEstate #DownPaymentAssistance #HomeBuyingWA #EducateHomeBuyers #WAHousing #PNWRealEstate #SeattleHomeBuyers #TacomaRealEstate #KingCountyHomes \n 
URL:https://educatehomebuyers.org/event/unlocking-homeownership-in-washington-your-first-time-buyer-wshfc-seminar/
LOCATION:Virtual Online Class
CATEGORIES:Home Buyer Education,Jody
ORGANIZER;CN="Jody Tiedeman":MAILTO:jody.tiedeman@newrez.com
END:VEVENT
BEGIN:VEVENT
DTSTART;TZID=America/Los_Angeles:20260525T090000
DTEND;TZID=America/Los_Angeles:20260525T140000
DTSTAMP:20260423T011534
CREATED:20260412T225250Z
LAST-MODIFIED:20260412T225250Z
UID:2921-1779699600-1779717600@educatehomebuyers.org
SUMMARY:Memorial Day First-Time Home Buyer Class (Washington State) – Free Zoom Event
DESCRIPTION:Register in advance for this meeting:\nhttps://us02web.zoom.us/meeting/register/2H6mY3yQQvWdS2elkJ3rFw\nAfter registering\, you will receive a confirmation email containing information about joining the meeting.\n🏠 Honor the Past. Build Your Future.\nThis Memorial Day\, take a meaningful step toward homeownership. \nIf you’ve been wondering whether you can actually afford a home in Washington State—or how down payment assistance really works—this free class is for you. \n\n🎯 What You’ll Learn (Without the Boring Stuff):\n✔️ How much you really need to buy a home in Washington✔️ How down payment assistance programs can help you get in sooner✔️ The step-by-step process from pre-approval to closing✔️ Common mistakes first-time buyers make (and how to avoid them) \n\n💡 Why This Class Matters\nMost buyers think they need 20% down. \n👉 Not even close. \nThousands of Washington buyers are purchasing homes with far less—and we’ll show you exactly how.
URL:https://educatehomebuyers.org/event/memorial-day-first-time-home-buyer-class-washington-state-free-zoom-event/
LOCATION:Virtual Online Class
CATEGORIES:Home Buyer Education,Jody
ORGANIZER;CN="Jody Tiedeman":MAILTO:jody.tiedeman@newrez.com
END:VEVENT
BEGIN:VEVENT
DTSTART;TZID=America/Los_Angeles:20260531T100000
DTEND;TZID=America/Los_Angeles:20260531T150000
DTSTAMP:20260423T011534
CREATED:20260412T222120Z
LAST-MODIFIED:20260412T222851Z
UID:2915-1780221600-1780239600@educatehomebuyers.org
SUMMARY:Attention Googlers - Free WA State HomeBuyer Education Class
DESCRIPTION:Register in advance for this meeting:\nhttps://us02web.zoom.us/meeting/register/OaL_G9DySLKGVS7ZSgmLSw\nAfter registering\, you will receive a confirmation email containing information about joining the meeting.\nAttention Late-Night Googlers\n🤔 “Can I afford a house in Washington?” \nIf you’ve Googled that at 11:37pm… this is for you. \nOur FREE Washington First-Time Home Buyer Class gives you real answers:\n💰 How much you actually need\n📉 How to qualify for down payment assistance\n📋 What steps to take (in the right order) \nNo confusing jargon. No guesswork. \nJust a clear plan to help you buy your first home. \n👉 Stop guessing. Start planning. \nClick on the link above to register.  Invite your friends\, family\, and co-workers. \n  \n  \n#FirstTimeHomeBuyer #WashingtonRealEstate #DownPaymentAssistance #HomeBuyingWA #EducateHomeBuyers #WAHousing #PNWRealEstate #SeattleHomeBuyers #TacomaRealEstate #KingCountyHomes \n  \n 
URL:https://educatehomebuyers.org/event/attention-googlers-free-wa-state-homebuyer-education-class/
LOCATION:Virtual Online Class
CATEGORIES:Home Buyer Education,Jody
ORGANIZER;CN="Jody Tiedeman":MAILTO:jody.tiedeman@newrez.com
END:VEVENT
END:VCALENDAR