BEGIN:VCALENDAR
VERSION:2.0
PRODID:-//Educate Home Buyers - ECPv6.15.20//NONSGML v1.0//EN
CALSCALE:GREGORIAN
METHOD:PUBLISH
X-ORIGINAL-URL:https://educatehomebuyers.org
X-WR-CALDESC:Events for Educate Home Buyers
REFRESH-INTERVAL;VALUE=DURATION:PT1H
X-Robots-Tag:noindex
X-PUBLISHED-TTL:PT1H
BEGIN:VTIMEZONE
TZID:America/Los_Angeles
BEGIN:DAYLIGHT
TZOFFSETFROM:-0800
TZOFFSETTO:-0700
TZNAME:PDT
DTSTART:20250309T100000
END:DAYLIGHT
BEGIN:STANDARD
TZOFFSETFROM:-0700
TZOFFSETTO:-0800
TZNAME:PST
DTSTART:20251102T090000
END:STANDARD
BEGIN:DAYLIGHT
TZOFFSETFROM:-0800
TZOFFSETTO:-0700
TZNAME:PDT
DTSTART:20260308T100000
END:DAYLIGHT
BEGIN:STANDARD
TZOFFSETFROM:-0700
TZOFFSETTO:-0800
TZNAME:PST
DTSTART:20261101T090000
END:STANDARD
BEGIN:DAYLIGHT
TZOFFSETFROM:-0800
TZOFFSETTO:-0700
TZNAME:PDT
DTSTART:20270314T100000
END:DAYLIGHT
BEGIN:STANDARD
TZOFFSETFROM:-0700
TZOFFSETTO:-0800
TZNAME:PST
DTSTART:20271107T090000
END:STANDARD
END:VTIMEZONE
BEGIN:VEVENT
DTSTART;TZID=America/Los_Angeles:20260315T100000
DTEND;TZID=America/Los_Angeles:20260315T150000
DTSTAMP:20260422T212515
CREATED:20260223T163341Z
LAST-MODIFIED:20260223T165040Z
UID:2857-1773568800-1773586800@educatehomebuyers.org
SUMMARY:First Steps to Homeownership: A Virtual Class for Washington State Buyers
DESCRIPTION:Register in advance for this meeting:\nhttps://us02web.zoom.us/meeting/register/w42EfVbMQ0GIg60L2rdkuA\nAfter registering\, you will receive a confirmation email containing information about joining the meeting.\nAre you tired of paying your landlord and ready to take the leap into homeownership? This free class will make sure you have all the necessary knowledge and tools to make informed decisions about purchasing a home in Washington State. \nIn this comprehensive course\, you will learn about: \n\nThe home buying process from start to finish.\nThe responsibilities and costs of homeownership\nHow to get pre-approved for a mortgage\nHow to find and purchase the right home for you\nAnd much more!\n\nOur experienced instructors will provide you with personalized attention\, answer any questions you may have\, and guide you through the complex world of home buying. By the end of the class\, you’ll have the confidence and knowledge to make the right decisions and find the home of your dreams. \nDon’t miss this opportunity to take control of your future and become a proud homeowner! Sign up for our First-Time Home Buyer Education Class today! \nThis workshop is co-sponsored by the Washington State Housing Finance Commission (WSHFC) and NewRez Home Loan Division. Upon completion\, you will receive a WSHFC home buyer’s education certificate. \nSpouses/partners are welcome to register and attend with you. Register now to secure your spot! \n  \n#BuyaHome #Realestate #FirstTimeBuyer #WashingtonState #WSHFC #KingCounty #PierceCounty #ThurstonCounty #SnohomishCounty #KitsapCounty #LewisCounty #masonCounty #HeretoHome
URL:https://educatehomebuyers.org/event/wa-homebuyer-bootcamp-online-class/
LOCATION:Virtual Online Class
CATEGORIES:Home Buyer Education,Jody
ORGANIZER;CN="Jody Tiedeman":MAILTO:jody.tiedeman@newrez.com
END:VEVENT
END:VCALENDAR