BEGIN:VCALENDAR
VERSION:2.0
PRODID:-//Educate Home Buyers - ECPv6.15.20//NONSGML v1.0//EN
CALSCALE:GREGORIAN
METHOD:PUBLISH
X-ORIGINAL-URL:https://educatehomebuyers.org
X-WR-CALDESC:Events for Educate Home Buyers
REFRESH-INTERVAL;VALUE=DURATION:PT1H
X-Robots-Tag:noindex
X-PUBLISHED-TTL:PT1H
BEGIN:VTIMEZONE
TZID:America/Los_Angeles
BEGIN:DAYLIGHT
TZOFFSETFROM:-0800
TZOFFSETTO:-0700
TZNAME:PDT
DTSTART:20250309T100000
END:DAYLIGHT
BEGIN:STANDARD
TZOFFSETFROM:-0700
TZOFFSETTO:-0800
TZNAME:PST
DTSTART:20251102T090000
END:STANDARD
BEGIN:DAYLIGHT
TZOFFSETFROM:-0800
TZOFFSETTO:-0700
TZNAME:PDT
DTSTART:20260308T100000
END:DAYLIGHT
BEGIN:STANDARD
TZOFFSETFROM:-0700
TZOFFSETTO:-0800
TZNAME:PST
DTSTART:20261101T090000
END:STANDARD
BEGIN:DAYLIGHT
TZOFFSETFROM:-0800
TZOFFSETTO:-0700
TZNAME:PDT
DTSTART:20270314T100000
END:DAYLIGHT
BEGIN:STANDARD
TZOFFSETFROM:-0700
TZOFFSETTO:-0800
TZNAME:PST
DTSTART:20271107T090000
END:STANDARD
END:VTIMEZONE
BEGIN:VEVENT
DTSTART;TZID=America/Los_Angeles:20260208T100000
DTEND;TZID=America/Los_Angeles:20260208T150000
DTSTAMP:20260422T225247
CREATED:20260117T165055Z
LAST-MODIFIED:20260117T165258Z
UID:2789-1770544800-1770562800@educatehomebuyers.org
SUMMARY:WSHFC Certificate Class: First-Time Home Buyer Education Free Online Workshop
DESCRIPTION:Register in advance for this meeting:\nhttps://us02web.zoom.us/meeting/register/svVgk_C_QzeRLoyA9fTrSQ\nAfter registering\, you will receive a confirmation email containing information about joining the meeting.\nReady to Buy Your First Home?\nFeeling overwhelmed? Our First-Time Homebuyer Workshop is here to guide you! \nWhat You’ll Learn: \n\nThe home buying process—from pre-approval to closing\nBudgeting\, mortgage options\, and closing costs\nDown payment assistance and special loan programs\nUnderstanding the market and making smart offers\nHomeownership responsibilities and ongoing costs\nHow to avoid common mistakes\n\nWhy Attend: \n\nExpert advice from mortgage and real estate pros\nInteractive Q&A and helpful tools\nSupportive community of fellow buyers\n\nWho Should Attend: \n\nFirst-time buyers or renters thinking about homeownership\nAnyone who wants to feel confident in the buying process\n\nTake your first step toward owning a home—join us! \n  \n#WAFinancialEducation #HomeOwnershipGoals #AffordableHousingWA #PNWLife #MoveToWashington #WSHFC #FirstTimeHomeBuyer #DownPaymentAssistance #KingCounty #SnohomishCounty #Pierce County #ThurstonCounty #KittitasCounty #KitsapCounty #LewisCounty
URL:https://educatehomebuyers.org/event/first-time-homebuyer-workshop-wa/
LOCATION:Virtual Online Class
CATEGORIES:Home Buyer Education,Jody
ORGANIZER;CN="Jody Tiedeman":MAILTO:jody.tiedeman@newrez.com
END:VEVENT
END:VCALENDAR