BEGIN:VCALENDAR
VERSION:2.0
PRODID:-//Educate Home Buyers - ECPv6.15.20//NONSGML v1.0//EN
CALSCALE:GREGORIAN
METHOD:PUBLISH
X-ORIGINAL-URL:https://educatehomebuyers.org
X-WR-CALDESC:Events for Educate Home Buyers
REFRESH-INTERVAL;VALUE=DURATION:PT1H
X-Robots-Tag:noindex
X-PUBLISHED-TTL:PT1H
BEGIN:VTIMEZONE
TZID:America/Los_Angeles
BEGIN:DAYLIGHT
TZOFFSETFROM:-0800
TZOFFSETTO:-0700
TZNAME:PDT
DTSTART:20250309T100000
END:DAYLIGHT
BEGIN:STANDARD
TZOFFSETFROM:-0700
TZOFFSETTO:-0800
TZNAME:PST
DTSTART:20251102T090000
END:STANDARD
BEGIN:DAYLIGHT
TZOFFSETFROM:-0800
TZOFFSETTO:-0700
TZNAME:PDT
DTSTART:20260308T100000
END:DAYLIGHT
BEGIN:STANDARD
TZOFFSETFROM:-0700
TZOFFSETTO:-0800
TZNAME:PST
DTSTART:20261101T090000
END:STANDARD
BEGIN:DAYLIGHT
TZOFFSETFROM:-0800
TZOFFSETTO:-0700
TZNAME:PDT
DTSTART:20270314T100000
END:DAYLIGHT
BEGIN:STANDARD
TZOFFSETFROM:-0700
TZOFFSETTO:-0800
TZNAME:PST
DTSTART:20271107T090000
END:STANDARD
END:VTIMEZONE
BEGIN:VEVENT
DTSTART;TZID=America/Los_Angeles:20260111T100000
DTEND;TZID=America/Los_Angeles:20260111T150000
DTSTAMP:20260423T001509
CREATED:20251223T210741Z
LAST-MODIFIED:20260109T232155Z
UID:2754-1768125600-1768143600@educatehomebuyers.org
SUMMARY:WSHFC: First-Time Home Buyer Education Online Class Washington State
DESCRIPTION:Register in advance for this meeting:\nClick Here to register!\nAfter registering\, you will receive a confirmation email containing information about joining the meeting.\n🏡 Ready to Buy Your First Home? Start Here. \nBuying your first home doesn’t have to be overwhelming—we’ll walk you through it step by step. \nJoin our Washington State Housing Finance Commission-approved First-Time Home Buyer Education Class and learn everything you need to know about: \n\nHow to qualify for a mortgage\nDown payment assistance programs\nUnderstanding credit\, budgeting & loan options\nNavigating the real estate market with confidence\nAvoiding costly first-time buyer mistakes\n\n✅ Free to attend\n✅ Required for down payment assistance\n✅ Live and interactive—ask questions and get real answers \n 
URL:https://educatehomebuyers.org/event/wshfc-first-time-home-buyer-education-online-class-washington-state/
LOCATION:Virtual Online Class
CATEGORIES:Home Buyer Education
ORGANIZER;CN="Jody Tiedeman":MAILTO:jody.tiedeman@newrez.com
END:VEVENT
END:VCALENDAR