BEGIN:VCALENDAR
VERSION:2.0
PRODID:-//Educate Home Buyers - ECPv6.15.20//NONSGML v1.0//EN
CALSCALE:GREGORIAN
METHOD:PUBLISH
X-ORIGINAL-URL:https://educatehomebuyers.org
X-WR-CALDESC:Events for Educate Home Buyers
REFRESH-INTERVAL;VALUE=DURATION:PT1H
X-Robots-Tag:noindex
X-PUBLISHED-TTL:PT1H
BEGIN:VTIMEZONE
TZID:America/Los_Angeles
BEGIN:DAYLIGHT
TZOFFSETFROM:-0800
TZOFFSETTO:-0700
TZNAME:PDT
DTSTART:20240310T100000
END:DAYLIGHT
BEGIN:STANDARD
TZOFFSETFROM:-0700
TZOFFSETTO:-0800
TZNAME:PST
DTSTART:20241103T090000
END:STANDARD
BEGIN:DAYLIGHT
TZOFFSETFROM:-0800
TZOFFSETTO:-0700
TZNAME:PDT
DTSTART:20250309T100000
END:DAYLIGHT
BEGIN:STANDARD
TZOFFSETFROM:-0700
TZOFFSETTO:-0800
TZNAME:PST
DTSTART:20251102T090000
END:STANDARD
BEGIN:DAYLIGHT
TZOFFSETFROM:-0800
TZOFFSETTO:-0700
TZNAME:PDT
DTSTART:20260308T100000
END:DAYLIGHT
BEGIN:STANDARD
TZOFFSETFROM:-0700
TZOFFSETTO:-0800
TZNAME:PST
DTSTART:20261101T090000
END:STANDARD
END:VTIMEZONE
BEGIN:VEVENT
DTSTART;TZID=America/Los_Angeles:20251227T090000
DTEND;TZID=America/Los_Angeles:20251227T140000
DTSTAMP:20260423T014058
CREATED:20251223T174953Z
LAST-MODIFIED:20251223T210759Z
UID:2748-1766826000-1766844000@educatehomebuyers.org
SUMMARY:A WSHFC Virtual Class - Navigating Your Path to Homeownership in Washington State
DESCRIPTION:When: Dec 27\, 2025 09:00 PM Pacific Time (US and Canada)\nRegister in advance for this meeting:\nhttps://us02web.zoom.us/meeting/register/DAh6a5c7R26T6n_Pf2krdA\nAfter registering\, you will receive a confirmation email containing information about joining the meeting.\n🏡 Thinking About Buying Your First Home? Let’s Make It Less Scary. \nBuying your first home can feel like learning a new language—mortgage-speak\, inspection lingo\, and “escrow” (whatever that is). Don’t worry—we’ll translate. \nJoin our First-Time Home Buyer Education Class and get the real talk on: \n\nHow much home you can actually afford (without living on ramen)\nDown payment assistance programs that don’t require selling a kidney\nCredit tips\, loan types\, and how to avoid “pre-approval panic”\nWhat to expect from offer to closing (and what not to Google at 2am)\n\n✅ Approved by Washington State Housing Finance Commission\n✅ Required for down payment assistance\n✅ Live\, online\, and no boring PowerPoints—we promise \n#TacomaFirstTimeBuyer #PuyallupHomeBuyer  #MapleValleyHomeBuyer #WSHFCApprovedClass #WAHomeBuyerClassNearMe #WAHomeLoanEducation #DownPaymentAssistance #kentHomebuyer #TukwilaFirstTimeHomeBuyer #RentonFirstTimeHomeBuyer
URL:https://educatehomebuyers.org/event/dec-27th-wshfc-home-buyer-education-class/
LOCATION:Virtual Online Class
CATEGORIES:Home Buyer Education,Jody
ORGANIZER;CN="Jody Tiedeman":MAILTO:jody.tiedeman@newrez.com
END:VEVENT
END:VCALENDAR