BEGIN:VCALENDAR
VERSION:2.0
PRODID:-//Educate Home Buyers - ECPv6.15.20//NONSGML v1.0//EN
CALSCALE:GREGORIAN
METHOD:PUBLISH
X-ORIGINAL-URL:https://educatehomebuyers.org
X-WR-CALDESC:Events for Educate Home Buyers
REFRESH-INTERVAL;VALUE=DURATION:PT1H
X-Robots-Tag:noindex
X-PUBLISHED-TTL:PT1H
BEGIN:VTIMEZONE
TZID:America/Los_Angeles
BEGIN:DAYLIGHT
TZOFFSETFROM:-0800
TZOFFSETTO:-0700
TZNAME:PDT
DTSTART:20240310T100000
END:DAYLIGHT
BEGIN:STANDARD
TZOFFSETFROM:-0700
TZOFFSETTO:-0800
TZNAME:PST
DTSTART:20241103T090000
END:STANDARD
BEGIN:DAYLIGHT
TZOFFSETFROM:-0800
TZOFFSETTO:-0700
TZNAME:PDT
DTSTART:20250309T100000
END:DAYLIGHT
BEGIN:STANDARD
TZOFFSETFROM:-0700
TZOFFSETTO:-0800
TZNAME:PST
DTSTART:20251102T090000
END:STANDARD
BEGIN:DAYLIGHT
TZOFFSETFROM:-0800
TZOFFSETTO:-0700
TZNAME:PDT
DTSTART:20260308T100000
END:DAYLIGHT
BEGIN:STANDARD
TZOFFSETFROM:-0700
TZOFFSETTO:-0800
TZNAME:PST
DTSTART:20261101T090000
END:STANDARD
END:VTIMEZONE
BEGIN:VEVENT
DTSTART;TZID=America/Los_Angeles:20251123T100000
DTEND;TZID=America/Los_Angeles:20251123T150000
DTSTAMP:20260423T025539
CREATED:20251024T200202Z
LAST-MODIFIED:20251024T200228Z
UID:2717-1763892000-1763910000@educatehomebuyers.org
SUMMARY:Dream Big: Virtual First-Time Home Buying Class for Washington State Down Payment Assistance
DESCRIPTION:Register in advance for this meeting:\nhttps://us02web.zoom.us/meeting/register/aE23d15WT46bUO7xNpNSCg\nAfter registering\, you will receive a confirmation email containing information about joining the meeting.\nWhat You’ll Learn (a.k.a. What Google can’t explain clearly): \n\nThe Home Buying Process – From “What’s a pre-approval?” to “I got the keys!”\nFinancial Prep – Budgeting\, loans\, and how not to drain your life savings on closing costs.\nHelp Is Out There – Programs\, grants\, and down payment assistance.\nThe Market Maze – Trends\, neighborhoods\, and making offers that don’t make agents laugh.\nReal-Life Responsibilities – Because homes don’t come with an “easy” button.\nPitfall-Proofing – Learn what not to do\, like buying a house just because it has a hot tub.\n\nWhy You’ll Love It: \n\nReal Experts (not your cousin who just watches HGTV)\nHands-On Learning – Yes\, you’ll leave with actual tools and not just stress\nNew Friends – Meet others who are also Googling “what is escrow?”\nZero Judgement Zone – Ask all the “dumb” questions. (Spoiler: they’re not dumb.)\n\nWho Should Come: \n\nFirst-time buyers who want to stop renting and start investing\nAnyone who gets a little queasy thinking about down payments\nFriends\, family\, partners and co-workers are all welcome!\n\nCome laugh\, learn\, and leave one step closer to your dream home.\nRegister today—because your future self will thank you (and so will your wallet). \n#WashingtonHomeBuyer #DownPaymentHelp #FirstHomeWA #HomeBuyingMadeEasy #LivingInWashington #PNWRealEstate #FirstTimeHomeBuyerWA #DreamHomeWA #DownPaymentAssistanceWA #HomeBuyingTips #RealEstateAdvice #KingCounty #PierceCounty #ThurstonCounty #SnohomishCounty #KitsapCounty
URL:https://educatehomebuyers.org/event/wshfc-homebuyer-education/
LOCATION:Virtual Online Class
CATEGORIES:Home Buyer Education
END:VEVENT
END:VCALENDAR