BEGIN:VCALENDAR
VERSION:2.0
PRODID:-//Educate Home Buyers - ECPv6.15.20//NONSGML v1.0//EN
CALSCALE:GREGORIAN
METHOD:PUBLISH
X-ORIGINAL-URL:https://educatehomebuyers.org
X-WR-CALDESC:Events for Educate Home Buyers
REFRESH-INTERVAL;VALUE=DURATION:PT1H
X-Robots-Tag:noindex
X-PUBLISHED-TTL:PT1H
BEGIN:VTIMEZONE
TZID:America/Los_Angeles
BEGIN:DAYLIGHT
TZOFFSETFROM:-0800
TZOFFSETTO:-0700
TZNAME:PDT
DTSTART:20240310T100000
END:DAYLIGHT
BEGIN:STANDARD
TZOFFSETFROM:-0700
TZOFFSETTO:-0800
TZNAME:PST
DTSTART:20241103T090000
END:STANDARD
BEGIN:DAYLIGHT
TZOFFSETFROM:-0800
TZOFFSETTO:-0700
TZNAME:PDT
DTSTART:20250309T100000
END:DAYLIGHT
BEGIN:STANDARD
TZOFFSETFROM:-0700
TZOFFSETTO:-0800
TZNAME:PST
DTSTART:20251102T090000
END:STANDARD
BEGIN:DAYLIGHT
TZOFFSETFROM:-0800
TZOFFSETTO:-0700
TZNAME:PDT
DTSTART:20260308T100000
END:DAYLIGHT
BEGIN:STANDARD
TZOFFSETFROM:-0700
TZOFFSETTO:-0800
TZNAME:PST
DTSTART:20261101T090000
END:STANDARD
END:VTIMEZONE
BEGIN:VEVENT
DTSTART;TZID=America/Los_Angeles:20251012T100000
DTEND;TZID=America/Los_Angeles:20251012T150000
DTSTAMP:20260423T042504
CREATED:20250928T162012Z
LAST-MODIFIED:20250928T162012Z
UID:2678-1760263200-1760281200@educatehomebuyers.org
SUMMARY:Homeownership 101: A Virtual WSHFC Class for First-Time Buyers in Washington State
DESCRIPTION:Register in advance for this meeting:\nhttps://us02web.zoom.us/meeting/register/ZbYF82tQS2CYAzpN1ErpHg\nAfter registering\, you will receive a confirmation email containing information about joining the meeting.\n  \n🏡 Ready to Buy Your First Home? Start Here. \nBuying your first home doesn’t have to be overwhelming—we’ll walk you through it step by step. \nJoin our Washington State Housing Finance Commission-approved First-Time Home Buyer Education Class and learn everything you need to know about: \n\nHow to qualify for a mortgage\nDown payment assistance programs\nUnderstanding credit\, budgeting & loan options\nNavigating the real estate market with confidence\nAvoiding costly first-time buyer mistakes\n\n✅ Free to attend\n✅ Required for down payment assistance\n✅ Live and interactive—ask questions and get real answers \n  \n#TacomaFirstTimeBuyer #PuyallupHomeBuyer  #MapleValleyHomeBuyer #WSHFCApprovedClass #WAHomeBuyerClassNearMe #WAHomeLoanEducation #DownPaymentAssistance #kentHomebuyer #TukwilaFirstTimeHomeBuyer #RentonFirstTimeHomeBuyer
URL:https://educatehomebuyers.org/event/washington-down-payment-assistance-class-2/
LOCATION:Virtual Online Class
CATEGORIES:Home Buyer Education
END:VEVENT
END:VCALENDAR