BEGIN:VCALENDAR
VERSION:2.0
PRODID:-//Educate Home Buyers - ECPv6.15.20//NONSGML v1.0//EN
CALSCALE:GREGORIAN
METHOD:PUBLISH
X-WR-CALNAME:Educate Home Buyers
X-ORIGINAL-URL:https://educatehomebuyers.org
X-WR-CALDESC:Events for Educate Home Buyers
REFRESH-INTERVAL;VALUE=DURATION:PT1H
X-Robots-Tag:noindex
X-PUBLISHED-TTL:PT1H
BEGIN:VTIMEZONE
TZID:America/Los_Angeles
BEGIN:DAYLIGHT
TZOFFSETFROM:-0800
TZOFFSETTO:-0700
TZNAME:PDT
DTSTART:20240310T100000
END:DAYLIGHT
BEGIN:STANDARD
TZOFFSETFROM:-0700
TZOFFSETTO:-0800
TZNAME:PST
DTSTART:20241103T090000
END:STANDARD
BEGIN:DAYLIGHT
TZOFFSETFROM:-0800
TZOFFSETTO:-0700
TZNAME:PDT
DTSTART:20250309T100000
END:DAYLIGHT
BEGIN:STANDARD
TZOFFSETFROM:-0700
TZOFFSETTO:-0800
TZNAME:PST
DTSTART:20251102T090000
END:STANDARD
BEGIN:DAYLIGHT
TZOFFSETFROM:-0800
TZOFFSETTO:-0700
TZNAME:PDT
DTSTART:20260308T100000
END:DAYLIGHT
BEGIN:STANDARD
TZOFFSETFROM:-0700
TZOFFSETTO:-0800
TZNAME:PST
DTSTART:20261101T090000
END:STANDARD
END:VTIMEZONE
BEGIN:VEVENT
DTSTART;TZID=America/Los_Angeles:20250907T100000
DTEND;TZID=America/Los_Angeles:20250907T150000
DTSTAMP:20260424T184729
CREATED:20250823T004827Z
LAST-MODIFIED:20250823T004827Z
UID:2652-1757239200-1757257200@educatehomebuyers.org
SUMMARY:WSHFC: First-Time Home Buyer Education Online Class Washington State
DESCRIPTION:Register in advance for this meeting:\nhttps://us02web.zoom.us/meeting/register/edTAW0luT0ifQJAy5Kjmyg\nAfter registering\, you will receive a confirmation email containing information about joining the meeting.\n\n🏡 Ready to Buy Your First Home? Start Here.\nBuying your first home doesn’t have to be overwhelming—we’ll walk you through it step by step.\nJoin our Washington State Housing Finance Commission-approved First-Time Home Buyer Education Class and learn everything you need to know about:\n• How to qualify for a mortgage\n• Down payment assistance programs\n• Understanding credit\, budgeting & loan options\n• Navigating the real estate market with confidence\n• Avoiding costly first-time buyer mistakes\n✅ Free to attend\n✅ Required for down payment assistance\n✅ Live and interactive—ask questions and get real answers\n🏡 Thinking About Buying Your First Home? Let’s Make It Less Scary.\nBuying your first home can feel like learning a new language—mortgage-speak\, inspection lingo\, and “escrow” (whatever that is). Don’t worry—we’ll translate.\nJoin our First-Time Home Buyer Education Class and get the real talk on:\n• How much home you can actually afford (without living on ramen)\n• Down payment assistance programs that don’t require selling a kidney\n• Credit tips\, loan types\, and how to avoid “pre-approval panic”\n• What to expect from offer to closing (and what not to Google at 2am)\n✅ Approved by Washington State Housing Finance Commission\n✅ Required for down payment assistance\n✅ Live\, online\, and no boring PowerPoints—we promise \n________________________________________\n📅 Reserve Your Spot\nBring your questions\, your curiosity\, and maybe a coffee. Your future home is waiting!\n#WashingtonFirstTimeHomeBuyer #WAHomeBuyerEducation #SeattleHomeBuyerClass #TacomaFirstTimeBuyer #PuyallupHomeBuyer #WSHFCApprovedClass
URL:https://educatehomebuyers.org/event/first-time-homebuyer-class-wa-2/
LOCATION:Virtual Online Class
CATEGORIES:Home Buyer Education
END:VEVENT
END:VCALENDAR