BEGIN:VCALENDAR
VERSION:2.0
PRODID:-//Educate Home Buyers - ECPv6.15.20//NONSGML v1.0//EN
CALSCALE:GREGORIAN
METHOD:PUBLISH
X-WR-CALNAME:Educate Home Buyers
X-ORIGINAL-URL:https://educatehomebuyers.org
X-WR-CALDESC:Events for Educate Home Buyers
REFRESH-INTERVAL;VALUE=DURATION:PT1H
X-Robots-Tag:noindex
X-PUBLISHED-TTL:PT1H
BEGIN:VTIMEZONE
TZID:America/Los_Angeles
BEGIN:DAYLIGHT
TZOFFSETFROM:-0800
TZOFFSETTO:-0700
TZNAME:PDT
DTSTART:20240310T100000
END:DAYLIGHT
BEGIN:STANDARD
TZOFFSETFROM:-0700
TZOFFSETTO:-0800
TZNAME:PST
DTSTART:20241103T090000
END:STANDARD
BEGIN:DAYLIGHT
TZOFFSETFROM:-0800
TZOFFSETTO:-0700
TZNAME:PDT
DTSTART:20250309T100000
END:DAYLIGHT
BEGIN:STANDARD
TZOFFSETFROM:-0700
TZOFFSETTO:-0800
TZNAME:PST
DTSTART:20251102T090000
END:STANDARD
BEGIN:DAYLIGHT
TZOFFSETFROM:-0800
TZOFFSETTO:-0700
TZNAME:PDT
DTSTART:20260308T100000
END:DAYLIGHT
BEGIN:STANDARD
TZOFFSETFROM:-0700
TZOFFSETTO:-0800
TZNAME:PST
DTSTART:20261101T090000
END:STANDARD
END:VTIMEZONE
BEGIN:VEVENT
DTSTART;TZID=America/Los_Angeles:20250615T100000
DTEND;TZID=America/Los_Angeles:20250615T150000
DTSTAMP:20260425T090917
CREATED:20250516T193501Z
LAST-MODIFIED:20250516T193750Z
UID:2576-1749981600-1749999600@educatehomebuyers.org
SUMMARY:WSHFC Homebuyer Bootcamp: A Virtual Class for First-Time Home Buyers
DESCRIPTION:Register in advance for this meeting:\nhttps://us02web.zoom.us/meeting/register/4809mM7DQqu-j4e6Mva0Jw\nAfter registering\, you will receive a confirmation email containing information about joining the meeting.\nThis is a Washington state down payment assistance (WSHFC) accredited class. \nDreaming of owning your first home but feeling unsure where to start? Join our First-Time Home Buyer Workshop! This class is tailored to help you confidently navigate the home-buying journey. \nWhat You’ll Learn: \n\nHome Buying Basics: Understand the process from pre-approval to closing.\nFinancial Prep: Budget for your down payment\, explore mortgage options\, and manage closing costs.\nPrograms for Buyers: Learn about down payment assistance\, grants\, and special loans.\nMarket Insights: Tips on finding neighborhoods\, market trends\, and making strong offers.\nOwnership Essentials: Responsibilities like maintenance\, insurance\, and budgeting.\nAvoiding Mistakes: Common pitfalls to sidestep for a smooth experience.\n\n  \nWho Should Attend: Anyone looking for guidance and confidence in buying their first home! \n  \n#WAFinancialEducation #HomeOwnershipGoals #AffordableHousingWA #PNWLife #MoveToWashington #WSHFC #FirstTimeHomeBuyer #DownPaymentAssistance #KingCounty #SnohomishCounty #Pierce County #ThurstonCounty #KittitasCounty #KitsapCounty #LewisCounty
URL:https://educatehomebuyers.org/event/washington-first-time-buyer-online-class-8/
LOCATION:Virtual Online Class
CATEGORIES:Home Buyer Education
END:VEVENT
END:VCALENDAR