BEGIN:VCALENDAR
VERSION:2.0
PRODID:-//Educate Home Buyers - ECPv6.15.20//NONSGML v1.0//EN
CALSCALE:GREGORIAN
METHOD:PUBLISH
X-ORIGINAL-URL:https://educatehomebuyers.org
X-WR-CALDESC:Events for Educate Home Buyers
REFRESH-INTERVAL;VALUE=DURATION:PT1H
X-Robots-Tag:noindex
X-PUBLISHED-TTL:PT1H
BEGIN:VTIMEZONE
TZID:America/Los_Angeles
BEGIN:DAYLIGHT
TZOFFSETFROM:-0800
TZOFFSETTO:-0700
TZNAME:PDT
DTSTART:20240310T100000
END:DAYLIGHT
BEGIN:STANDARD
TZOFFSETFROM:-0700
TZOFFSETTO:-0800
TZNAME:PST
DTSTART:20241103T090000
END:STANDARD
BEGIN:DAYLIGHT
TZOFFSETFROM:-0800
TZOFFSETTO:-0700
TZNAME:PDT
DTSTART:20250309T100000
END:DAYLIGHT
BEGIN:STANDARD
TZOFFSETFROM:-0700
TZOFFSETTO:-0800
TZNAME:PST
DTSTART:20251102T090000
END:STANDARD
BEGIN:DAYLIGHT
TZOFFSETFROM:-0800
TZOFFSETTO:-0700
TZNAME:PDT
DTSTART:20260308T100000
END:DAYLIGHT
BEGIN:STANDARD
TZOFFSETFROM:-0700
TZOFFSETTO:-0800
TZNAME:PST
DTSTART:20261101T090000
END:STANDARD
END:VTIMEZONE
BEGIN:VEVENT
DTSTART;TZID=America/Los_Angeles:20250706T100000
DTEND;TZID=America/Los_Angeles:20250706T150000
DTSTAMP:20260425T060507
CREATED:20250626T172025Z
LAST-MODIFIED:20250823T004118Z
UID:2602-1751796000-1751814000@educatehomebuyers.org
SUMMARY:WSHFC Homeownership 101: A Virtual Class for First-Time Buyers in Washington State
DESCRIPTION:Register in advance for this meeting:\nhttps://us02web.zoom.us/meeting/register/YsoGtKhiRaOxe_E83voN2A\nAfter registering\, you will receive a confirmation email containing information about joining the meeting.\n🏡 Ready to Buy Your First Home? Start Here. \nBuying your first home doesn’t have to be overwhelming—we’ll walk you through it step by step. \nJoin our Washington State Housing Finance Commission-approved First-Time Home Buyer Education Class and learn everything you need to know about: \n\nHow to qualify for a mortgage\nDown payment assistance programs\nUnderstanding credit\, budgeting & loan options\nNavigating the real estate market with confidence\nAvoiding costly first-time buyer mistakes\n\n✅ Free to attend\n✅ Required for down payment assistance\n✅ Live and interactive—ask questions and get real answers \n  \n#WashingtonFirstTimeHomeBuyer  #WAHomeBuyerEducation #SeattleHomeBuyerClass #TacomaFirstTimeBuyer #PuyallupHomeBuyer #WSHFCApprovedClass
URL:https://educatehomebuyers.org/event/first-time-homebuyer-class-wa/
LOCATION:Virtual Online Class
CATEGORIES:Home Buyer Education
END:VEVENT
BEGIN:VEVENT
DTSTART;TZID=America/Los_Angeles:20250713T100000
DTEND;TZID=America/Los_Angeles:20250713T150000
DTSTAMP:20260425T060507
CREATED:20250626T184209Z
LAST-MODIFIED:20250823T004117Z
UID:2607-1752400800-1752418800@educatehomebuyers.org
SUMMARY:WSHFC: First Steps to Homeownership: A Virtual Class for Washington State Buyers
DESCRIPTION:Register in advance for this meeting:\nhttps://us02web.zoom.us/meeting/register/LdQCXko4R1e0EUMmttk8eQ\nAfter registering\, you will receive a confirmation email containing information about joining the meeting.\n🏡 Thinking About Buying Your First Home? Let’s Make It Less Scary.\n\nBuying your first home can feel like learning a new language—mortgage-speak\, inspection lingo\, and “escrow” (whatever that is). Don’t worry—we’ll translate.\n\nJoin our First-Time Home Buyer Education Class and get the real talk on:\n\n\nHow much home you can actually afford (without living on ramen)\n\n\nDown payment assistance programs that don’t require selling a kidney\n\n\nCredit tips\, loan types\, and how to avoid “pre-approval panic”\n\n\nWhat to expect from offer to closing (and what not to Google at 2am)\n\n\n✅ Approved by Washington State Housing Finance Commission\n✅ Required for down payment assistance\n✅ Live\, online\, and no boring PowerPoints—we promise\n\n\n\n\n📅 Reserve Your Spot\n\nBring your questions\, your curiosity\, and maybe a coffee. Your future home is waiting!\n  \n#TacomaFirstTimeBuyer #PuyallupHomeBuyer  #MapleValleyHomeBuyer #WSHFCApprovedClass #WAHomeBuyerClassNearMe #WAHomeLoanEducation #DownPaymentAssistance
URL:https://educatehomebuyers.org/event/homebuyer-education-online/
LOCATION:Virtual Online Class
CATEGORIES:Home Buyer Education
END:VEVENT
BEGIN:VEVENT
DTSTART;TZID=America/Los_Angeles:20250727T100000
DTEND;TZID=America/Los_Angeles:20250727T150000
DTSTAMP:20260425T060507
CREATED:20250720T163338Z
LAST-MODIFIED:20250823T004116Z
UID:2617-1753610400-1753628400@educatehomebuyers.org
SUMMARY:WSHFC: First-Time Home Buyer Education Online Class Washington State
DESCRIPTION:Register in advance for this meeting:\nhttps://us02web.zoom.us/meeting/register/-CT0mi14TJiyUZGG0g8GAg\nAfter registering\, you will receive a confirmation email containing information about joining the meeting.\n🏡 Ready to Buy Your First Home? Start Here. \nBuying your first home doesn’t have to be overwhelming—we’ll walk you through it step by step. \nJoin our Washington State Housing Finance Commission-approved First-Time Home Buyer Education Class and learn everything you need to know about: \n\nHow to qualify for a mortgage\nDown payment assistance programs\nUnderstanding credit\, budgeting & loan options\nNavigating the real estate market with confidence\nAvoiding costly first-time buyer mistakes\n\n✅ Free to attend\n✅ Required for down payment assistance\n✅ Live and interactive—ask questions and get real answers \n  \n🏡 Thinking About Buying Your First Home? Let’s Make It Less Scary. \nBuying your first home can feel like learning a new language—mortgage-speak\, inspection lingo\, and “escrow” (whatever that is). Don’t worry—we’ll translate. \nJoin our First-Time Home Buyer Education Class and get the real talk on: \n\nHow much home you can actually afford (without living on ramen)\nDown payment assistance programs that don’t require selling a kidney\nCredit tips\, loan types\, and how to avoid “pre-approval panic”\nWhat to expect from offer to closing (and what not to Google at 2am)\n\n✅ Approved by Washington State Housing Finance Commission\n✅ Required for down payment assistance\n✅ Live\, online\, and no boring PowerPoints—we promise \n  \n#BuyaHome #Realestate #FirstTimeBuyer #WashingtonState #WSHFC #KingCounty #PierceCounty #ThurstonCounty #SnohomishCounty #KitsapCounty #BentonCounty
URL:https://educatehomebuyers.org/event/first-time-home-buyer-guidance-classes/
LOCATION:Virtual Online Class
CATEGORIES:Home Buyer Education
END:VEVENT
END:VCALENDAR