BEGIN:VCALENDAR
VERSION:2.0
PRODID:-//Educate Home Buyers - ECPv6.15.20//NONSGML v1.0//EN
CALSCALE:GREGORIAN
METHOD:PUBLISH
X-ORIGINAL-URL:https://educatehomebuyers.org
X-WR-CALDESC:Events for Educate Home Buyers
REFRESH-INTERVAL;VALUE=DURATION:PT1H
X-Robots-Tag:noindex
X-PUBLISHED-TTL:PT1H
BEGIN:VTIMEZONE
TZID:America/Los_Angeles
BEGIN:DAYLIGHT
TZOFFSETFROM:-0800
TZOFFSETTO:-0700
TZNAME:PDT
DTSTART:20240310T100000
END:DAYLIGHT
BEGIN:STANDARD
TZOFFSETFROM:-0700
TZOFFSETTO:-0800
TZNAME:PST
DTSTART:20241103T090000
END:STANDARD
BEGIN:DAYLIGHT
TZOFFSETFROM:-0800
TZOFFSETTO:-0700
TZNAME:PDT
DTSTART:20250309T100000
END:DAYLIGHT
BEGIN:STANDARD
TZOFFSETFROM:-0700
TZOFFSETTO:-0800
TZNAME:PST
DTSTART:20251102T090000
END:STANDARD
BEGIN:DAYLIGHT
TZOFFSETFROM:-0800
TZOFFSETTO:-0700
TZNAME:PDT
DTSTART:20260308T100000
END:DAYLIGHT
BEGIN:STANDARD
TZOFFSETFROM:-0700
TZOFFSETTO:-0800
TZNAME:PST
DTSTART:20261101T090000
END:STANDARD
END:VTIMEZONE
BEGIN:VEVENT
DTSTART;TZID=America/Los_Angeles:20250615T100000
DTEND;TZID=America/Los_Angeles:20250615T150000
DTSTAMP:20260425T074141
CREATED:20250516T193501Z
LAST-MODIFIED:20250516T193750Z
UID:2576-1749981600-1749999600@educatehomebuyers.org
SUMMARY:WSHFC Homebuyer Bootcamp: A Virtual Class for First-Time Home Buyers
DESCRIPTION:Register in advance for this meeting:\nhttps://us02web.zoom.us/meeting/register/4809mM7DQqu-j4e6Mva0Jw\nAfter registering\, you will receive a confirmation email containing information about joining the meeting.\nThis is a Washington state down payment assistance (WSHFC) accredited class. \nDreaming of owning your first home but feeling unsure where to start? Join our First-Time Home Buyer Workshop! This class is tailored to help you confidently navigate the home-buying journey. \nWhat You’ll Learn: \n\nHome Buying Basics: Understand the process from pre-approval to closing.\nFinancial Prep: Budget for your down payment\, explore mortgage options\, and manage closing costs.\nPrograms for Buyers: Learn about down payment assistance\, grants\, and special loans.\nMarket Insights: Tips on finding neighborhoods\, market trends\, and making strong offers.\nOwnership Essentials: Responsibilities like maintenance\, insurance\, and budgeting.\nAvoiding Mistakes: Common pitfalls to sidestep for a smooth experience.\n\n  \nWho Should Attend: Anyone looking for guidance and confidence in buying their first home! \n  \n#WAFinancialEducation #HomeOwnershipGoals #AffordableHousingWA #PNWLife #MoveToWashington #WSHFC #FirstTimeHomeBuyer #DownPaymentAssistance #KingCounty #SnohomishCounty #Pierce County #ThurstonCounty #KittitasCounty #KitsapCounty #LewisCounty
URL:https://educatehomebuyers.org/event/washington-first-time-buyer-online-class-8/
LOCATION:Virtual Online Class
CATEGORIES:Home Buyer Education
END:VEVENT
BEGIN:VEVENT
DTSTART;TZID=America/Los_Angeles:20250622T100000
DTEND;TZID=America/Los_Angeles:20250622T150000
DTSTAMP:20260425T074141
CREATED:20250516T194202Z
LAST-MODIFIED:20250516T194202Z
UID:2582-1750586400-1750604400@educatehomebuyers.org
SUMMARY:WSHFC Accredited Class on First-Time Home Buying in Washington State
DESCRIPTION:Register in advance for this meeting:\nhttps://us02web.zoom.us/meeting/register/-hc3IYAbR9WZxNnoNofRWQ\nAfter registering\, you will receive a confirmation email containing information about joining the meeting.\nEmbark on your home buying journey with confidence! Use the Zoom link above to enroll in our WSHFC sponsored First-Time Home Buyer Online Education Class focused on Washington State. \nAcquire the knowledge and tools you need for a successful and stress-free home purchase. \nThe home buying process can be daunting for first-time home buyers in Washington State.  Taking a home buyer education course can provide valuable information and resources to help you make informed decisions throughout the home buying process. \nAttend our class and let the experts help you understand the process and timeline\, research and compare homes and financing options\, and prepare for closing on your home. \nIn this class we will break down the path to home ownership in a few simple steps. You will learn about: \n\nBudgeting\nCredit\nDown payment assistance\nPre-approval vs Prequalification – know your numbers!\nCrafting a winning offer\nInspections\nClosing Costs\nMortgage Process\nThe Buying Process from A to Z\n\nInvite friends and family who are thinking of buying their first home. \nBring your questions & join us for a free & fun informational class designed for first-time home buyers. \nLooking forward to seeing you online!  Use the link above to register for the class. \n#BuyaHome #Realestate #FirstTimeBuyer #WashingtonState #WSHFC #KingCounty #PierceCounty #ThurstonCounty #SnohomishCounty #KitsapCounty #BentonCounty #SpokaneCounty #KittitasCounty
URL:https://educatehomebuyers.org/event/wshfc-sponsored-first-time-home-buyer-online-education-class/
LOCATION:Virtual Online Class
CATEGORIES:Home Buyer Education
END:VEVENT
BEGIN:VEVENT
DTSTART;TZID=America/Los_Angeles:20250629T100000
DTEND;TZID=America/Los_Angeles:20250629T150000
DTSTAMP:20260425T074141
CREATED:20250516T194519Z
LAST-MODIFIED:20250516T194519Z
UID:2584-1751191200-1751209200@educatehomebuyers.org
SUMMARY:WSHFC Free First-Time Home Buyer Education Online Class Washington State
DESCRIPTION:Register in advance for this meeting:\nhttps://us02web.zoom.us/meeting/register/bIumuZEgQcCpijHIF61Org\nAfter registering\, you will receive a confirmation email containing information about joining the meeting.\nAre you dreaming of owning your first home but feeling overwhelmed by the process? Our First-Time Home Buyer Workshop is designed just for you! In this comprehensive class\, we’ll equip you with the knowledge and tools you need to navigate the exciting journey of purchasing your first home with confidence. \nWhat You’ll Learn: \n\nUnderstanding the Home Buying Process: We’ll demystify the entire home buying process\, from pre-approval to closing\, so you’ll know exactly what to expect every step of the way.\nFinancial Preparedness: Learn about the financial aspects of home buying\, including budgeting for a down payment\, understanding mortgage options\, and managing closing costs.\nExploring Homeownership Programs: Discover the various homeownership programs available to first-time buyers\, including down payment assistance\, grants\, and special loan programs.\nNavigating the Real Estate Market: Gain insights into current market trends\, tips for finding the right neighborhood\, and strategies for making competitive offers in a competitive market.\nHomeownership Responsibilities: Understand the responsibilities that come with homeownership\, including home maintenance\, insurance\, and budgeting for ongoing expenses.\nAvoiding Common Pitfalls: Learn how to avoid common mistakes that first-time buyers often make\, ensuring a smooth and successful home buying experience.\n\nWho Should Attend:    Anyone seeking guidance and support in navigating the home buying process. \n#BuyaHome #Realestate #FirstTimeBuyer #WashingtonState #WSHFC #KingCounty #PierceCounty #ThurstonCounty #SnohomishCounty #KitsapCounty #BentonCounty #SpokaneCounty #KittitasCounty
URL:https://educatehomebuyers.org/event/wa-state-homebuyer-education-workshops-2/
LOCATION:Virtual Online Class
CATEGORIES:Home Buyer Education
END:VEVENT
END:VCALENDAR