BEGIN:VCALENDAR
VERSION:2.0
PRODID:-//Educate Home Buyers - ECPv6.15.20//NONSGML v1.0//EN
CALSCALE:GREGORIAN
METHOD:PUBLISH
X-ORIGINAL-URL:https://educatehomebuyers.org
X-WR-CALDESC:Events for Educate Home Buyers
REFRESH-INTERVAL;VALUE=DURATION:PT1H
X-Robots-Tag:noindex
X-PUBLISHED-TTL:PT1H
BEGIN:VTIMEZONE
TZID:America/Los_Angeles
BEGIN:DAYLIGHT
TZOFFSETFROM:-0800
TZOFFSETTO:-0700
TZNAME:PDT
DTSTART:20240310T100000
END:DAYLIGHT
BEGIN:STANDARD
TZOFFSETFROM:-0700
TZOFFSETTO:-0800
TZNAME:PST
DTSTART:20241103T090000
END:STANDARD
BEGIN:DAYLIGHT
TZOFFSETFROM:-0800
TZOFFSETTO:-0700
TZNAME:PDT
DTSTART:20250309T100000
END:DAYLIGHT
BEGIN:STANDARD
TZOFFSETFROM:-0700
TZOFFSETTO:-0800
TZNAME:PST
DTSTART:20251102T090000
END:STANDARD
BEGIN:DAYLIGHT
TZOFFSETFROM:-0800
TZOFFSETTO:-0700
TZNAME:PDT
DTSTART:20260308T100000
END:DAYLIGHT
BEGIN:STANDARD
TZOFFSETFROM:-0700
TZOFFSETTO:-0800
TZNAME:PST
DTSTART:20261101T090000
END:STANDARD
END:VTIMEZONE
BEGIN:VEVENT
DTSTART;TZID=America/Los_Angeles:20250504T100000
DTEND;TZID=America/Los_Angeles:20250504T150000
DTSTAMP:20260425T090735
CREATED:20250422T231434Z
LAST-MODIFIED:20250422T231434Z
UID:2551-1746352800-1746370800@educatehomebuyers.org
SUMMARY:WSHFC: First-Time Home Buyer Education Online Class Washington State
DESCRIPTION:Register in advance for this meeting:\nhttps://us02web.zoom.us/meeting/register/smKTOYUlSgquoGdXL5gWgQ\nAfter registering\, you will receive a confirmation email containing information about joining the meeting.\nThis free class will make sure you have all the necessary knowledge and tools to make informed decisions about purchasing a home in Washington State. \nIn this comprehensive course\, you will learn about: \n\nThe home buying process from start to finish.\nThe responsibilities and costs of homeownership\nHow to get pre-approved for a mortgage\nHow to find and purchase the right home for you\nAnd much more!\n\nOur experienced instructors will provide you with personalized attention\, answer any questions you may have\, and guide you through the complex world of home buying. By the end of the class\, you’ll have the confidence and knowledge to make the right decisions and find the home of your dreams. \nDon’t miss this opportunity to take control of your future and become a proud homeowner! Sign up for our First-Time Home Buyer Education Class today! \nThis workshop is co-sponsored by the Washington State Housing Finance Commission (WSHFC) and NewRez Home Loan Division. Upon completion\, you will receive a WSHFC home buyer’s education certificate. \nSpouses/partners are welcome to register and attend with you. Register now to secure your spot! \n#BuyaHome #Realestate #FirstTimeBuyer #WashingtonState #WSHFC #KingCounty #PierceCounty #ThurstonCounty #SnohomishCounty #KitsapCounty #BentonCounty
URL:https://educatehomebuyers.org/event/first-time-home-buyer-education-classes-washington-state-8/
LOCATION:Virtual Online Class
CATEGORIES:Home Buyer Education
END:VEVENT
BEGIN:VEVENT
DTSTART;TZID=America/Los_Angeles:20250518T100000
DTEND;TZID=America/Los_Angeles:20250518T150000
DTSTAMP:20260425T090735
CREATED:20250422T232228Z
LAST-MODIFIED:20250422T232315Z
UID:2555-1747562400-1747580400@educatehomebuyers.org
SUMMARY:WSHFC Homebuyer Bootcamp: A Virtual Class for First-Time Home Buyers
DESCRIPTION:Register in advance for this meeting:\nhttps://us02web.zoom.us/meeting/register/-lSpFSOHRTy6rPZ7WFe05w\nAfter registering\, you will receive a confirmation email containing information about joining the meeting.\nAre you dreaming of owning your first home but feeling overwhelmed by the process? Our First-Time Home Buyer Workshop is designed just for you! In this comprehensive class\, we’ll equip you with the knowledge and tools you need to navigate the exciting journey of purchasing your first home with confidence. \nWhat You’ll Learn: \n\nUnderstanding the Home Buying Process: We’ll demystify the entire home buying process\, from pre-approval to closing\, so you’ll know exactly what to expect every step of the way.\nFinancial Preparedness: Learn about the financial aspects of home buying\, including budgeting for a down payment\, understanding mortgage options\, and managing closing costs.\nExploring Homeownership Programs: Discover the various homeownership programs available to first-time buyers\, including down payment assistance\, grants\, and special loan programs.\nNavigating the Real Estate Market: Gain insights into current market trends\, tips for finding the right neighborhood\, and strategies for making competitive offers in a competitive market.\nHomeownership Responsibilities: Understand the responsibilities that come with homeownership\, including home maintenance\, insurance\, and budgeting for ongoing expenses.\nAvoiding Common Pitfalls: Learn how to avoid common mistakes that first-time buyers often make\, ensuring a smooth and successful home buying experience.\n\nWho Should Attend:    Anyone seeking guidance and support in navigating the home buying process. \n#BuyaHome #Realestate #FirstTimeBuyer #WashingtonState #WSHFC #KingCounty #PierceCounty #ThurstonCounty #SnohomishCounty #KitsapCounty #BentonCounty #SpokaneCounty #KittitasCounty
URL:https://educatehomebuyers.org/event/home-purchase-education-first-time-buyer-washington/
LOCATION:Virtual Online Class
CATEGORIES:Home Buyer Education
END:VEVENT
END:VCALENDAR