BEGIN:VCALENDAR
VERSION:2.0
PRODID:-//Educate Home Buyers - ECPv6.15.20//NONSGML v1.0//EN
CALSCALE:GREGORIAN
METHOD:PUBLISH
X-WR-CALNAME:Educate Home Buyers
X-ORIGINAL-URL:https://educatehomebuyers.org
X-WR-CALDESC:Events for Educate Home Buyers
REFRESH-INTERVAL;VALUE=DURATION:PT1H
X-Robots-Tag:noindex
X-PUBLISHED-TTL:PT1H
BEGIN:VTIMEZONE
TZID:America/Los_Angeles
BEGIN:DAYLIGHT
TZOFFSETFROM:-0800
TZOFFSETTO:-0700
TZNAME:PDT
DTSTART:20250309T100000
END:DAYLIGHT
BEGIN:STANDARD
TZOFFSETFROM:-0700
TZOFFSETTO:-0800
TZNAME:PST
DTSTART:20251102T090000
END:STANDARD
BEGIN:DAYLIGHT
TZOFFSETFROM:-0800
TZOFFSETTO:-0700
TZNAME:PDT
DTSTART:20260308T100000
END:DAYLIGHT
BEGIN:STANDARD
TZOFFSETFROM:-0700
TZOFFSETTO:-0800
TZNAME:PST
DTSTART:20261101T090000
END:STANDARD
BEGIN:DAYLIGHT
TZOFFSETFROM:-0800
TZOFFSETTO:-0700
TZNAME:PDT
DTSTART:20270314T100000
END:DAYLIGHT
BEGIN:STANDARD
TZOFFSETFROM:-0700
TZOFFSETTO:-0800
TZNAME:PST
DTSTART:20271107T090000
END:STANDARD
END:VTIMEZONE
BEGIN:VEVENT
DTSTART;TZID=America/Los_Angeles:20260201T100000
DTEND;TZID=America/Los_Angeles:20260201T150000
DTSTAMP:20260422T225210
CREATED:20260117T164727Z
LAST-MODIFIED:20260117T165358Z
UID:2787-1769940000-1769958000@educatehomebuyers.org
SUMMARY:Free WSHFC Down Payment Assistance / First-time Home Buyer Education Class
DESCRIPTION:Register in advance for this meeting:\nhttps://us02web.zoom.us/meeting/register/bRNGqHiZRj6RwbZOm9E7nw\nAfter registering\, you will receive a confirmation email containing information about joining the meeting.\nThinking About Buying Your First Home?\nFeeling like you need a PhD to understand mortgages? You’re not alone. Our First-Time Homebuyer Workshop breaks it all down—no confusing jargon\, no pressure\, and yes\, snacks may be involved but since it is online you have buy them! \nWhat You’ll Learn (a.k.a. What Google can’t explain clearly): \n\nThe Home Buying Process – From “What’s a pre-approval?” to “I got the keys!”\nFinancial Prep – Budgeting\, loans\, and how not to drain your life savings on closing costs.\nHelp Is Out There – Programs\, grants\, and down payment assistance.\nThe Market Maze – Trends\, neighborhoods\, and making offers that don’t make agents laugh.\nReal-Life Responsibilities – Because homes don’t come with an “easy” button.\nPitfall-Proofing – Learn what not to do\, like buying a house just because it has a hot tub.\n\nWhy You’ll Love It: \n\nReal Experts (not your cousin who just watches HGTV)\nHands-On Learning – Yes\, you’ll leave with actual tools and not just stress\nNew Friends – Meet others who are also Googling “what is escrow?”\nZero Judgement Zone – Ask all the “dumb” questions. (Spoiler: they’re not dumb.)\n\nWho Should Come: \n\nFirst-time buyers who want to stop renting and start investing\nAnyone who gets a little queasy thinking about down payments\nFriends\, family\, partners and co-workers are all welcome!\n\nCome laugh\, learn\, and leave one step closer to your dream home.\nRegister today—because your future self will thank you (and so will your wallet). \n#WashingtonHomeBuyer #DownPaymentHelp #FirstHomeWA #HomeBuyingMadeEasy #LivingInWashington #PNWRealEstate #FirstTimeHomeBuyerWA #DreamHomeWA #DownPaymentAssistanceWA #HomeBuyingTips #RealEstateAdvice #KingCounty #PierceCounty #ThurstonCounty #SnohomishCounty #KitsapCounty
URL:https://educatehomebuyers.org/event/first-time-homebuyer-workshop-washington/
LOCATION:Virtual Online Class
CATEGORIES:Home Buyer Education,Jody
ORGANIZER;CN="Jody Tiedeman":MAILTO:jody.tiedeman@newrez.com
END:VEVENT
END:VCALENDAR