BEGIN:VCALENDAR
VERSION:2.0
PRODID:-//Educate Home Buyers - ECPv6.15.20//NONSGML v1.0//EN
CALSCALE:GREGORIAN
METHOD:PUBLISH
X-WR-CALNAME:Educate Home Buyers
X-ORIGINAL-URL:https://educatehomebuyers.org
X-WR-CALDESC:Events for Educate Home Buyers
REFRESH-INTERVAL;VALUE=DURATION:PT1H
X-Robots-Tag:noindex
X-PUBLISHED-TTL:PT1H
BEGIN:VTIMEZONE
TZID:America/Los_Angeles
BEGIN:DAYLIGHT
TZOFFSETFROM:-0800
TZOFFSETTO:-0700
TZNAME:PDT
DTSTART:20250309T100000
END:DAYLIGHT
BEGIN:STANDARD
TZOFFSETFROM:-0700
TZOFFSETTO:-0800
TZNAME:PST
DTSTART:20251102T090000
END:STANDARD
BEGIN:DAYLIGHT
TZOFFSETFROM:-0800
TZOFFSETTO:-0700
TZNAME:PDT
DTSTART:20260308T100000
END:DAYLIGHT
BEGIN:STANDARD
TZOFFSETFROM:-0700
TZOFFSETTO:-0800
TZNAME:PST
DTSTART:20261101T090000
END:STANDARD
BEGIN:DAYLIGHT
TZOFFSETFROM:-0800
TZOFFSETTO:-0700
TZNAME:PDT
DTSTART:20270314T100000
END:DAYLIGHT
BEGIN:STANDARD
TZOFFSETFROM:-0700
TZOFFSETTO:-0800
TZNAME:PST
DTSTART:20271107T090000
END:STANDARD
END:VTIMEZONE
BEGIN:VEVENT
DTSTART;TZID=America/Los_Angeles:20260104T090000
DTEND;TZID=America/Los_Angeles:20260104T140000
DTSTAMP:20260423T001237
CREATED:20251223T211356Z
LAST-MODIFIED:20251229T192408Z
UID:2756-1767517200-1767535200@educatehomebuyers.org
SUMMARY:Unlocking Homeownership in Washington: Your First-Time Buyer WSHFC Seminar
DESCRIPTION:Register in advance for this meeting:\nhttps://us02web.zoom.us/meeting/register/GJRCUxcFTbi5D8bT8hzqWA\nAfter registering\, you will receive a confirmation email containing information about joining the meeting.\n📅 Reserve Your Spot \nBring your questions\, your curiosity\, and maybe a coffee. Your future home is waiting! \n#WashingtonFirstTimeHomeBuyer  #WAHomeBuyerEducation #SeattleHomeBuyerClass \n#TacomaFirstTimeBuyer #PuyallupHomeBuyer #WSHFCApprovedClass \n  \n🏡 Thinking About Buying Your First Home? Let’s Make It Less Scary. \nBuying your first home can feel like learning a new language—mortgage-speak\, inspection lingo\, and “escrow” (whatever that is). Don’t worry—we’ll translate. \nJoin our First-Time Home Buyer Education Class and get the real talk on: \n\nHow much home you can actually afford (without living on ramen)\nDown payment assistance programs that don’t require selling a kidney\nCredit tips\, loan types\, and how to avoid “pre-approval panic”\nWhat to expect from offer to closing (and what not to Google at 2am)\n\n✅ Approved by Washington State Housing Finance Commission\n✅ Required for down payment assistance\n✅ Live\, online\, and no boring PowerPoints—we promise \n  \n📅 Bring your questions\, your curiosity\, and maybe a coffee. Your future home is waiting! \n #TacomaFirstTimeBuyer #PuyallupHomeBuyer  #MapleValleyHomeBuyer #WSHFCApprovedClass #WAHomeBuyerClassNearMe #WAHomeLoanEducation #DownPaymentAssistance
URL:https://educatehomebuyers.org/event/washington-first-time-buyer-online-class/
LOCATION:Virtual Online Class
CATEGORIES:Home Buyer Education,Jody
ORGANIZER;CN="Jody Tiedeman":MAILTO:jody.tiedeman@newrez.com
END:VEVENT
END:VCALENDAR