BEGIN:VCALENDAR
VERSION:2.0
PRODID:-//Educate Home Buyers - ECPv6.15.20//NONSGML v1.0//EN
CALSCALE:GREGORIAN
METHOD:PUBLISH
X-WR-CALNAME:Educate Home Buyers
X-ORIGINAL-URL:https://educatehomebuyers.org
X-WR-CALDESC:Events for Educate Home Buyers
REFRESH-INTERVAL;VALUE=DURATION:PT1H
X-Robots-Tag:noindex
X-PUBLISHED-TTL:PT1H
BEGIN:VTIMEZONE
TZID:America/Los_Angeles
BEGIN:DAYLIGHT
TZOFFSETFROM:-0800
TZOFFSETTO:-0700
TZNAME:PDT
DTSTART:20240310T100000
END:DAYLIGHT
BEGIN:STANDARD
TZOFFSETFROM:-0700
TZOFFSETTO:-0800
TZNAME:PST
DTSTART:20241103T090000
END:STANDARD
BEGIN:DAYLIGHT
TZOFFSETFROM:-0800
TZOFFSETTO:-0700
TZNAME:PDT
DTSTART:20250309T100000
END:DAYLIGHT
BEGIN:STANDARD
TZOFFSETFROM:-0700
TZOFFSETTO:-0800
TZNAME:PST
DTSTART:20251102T090000
END:STANDARD
BEGIN:DAYLIGHT
TZOFFSETFROM:-0800
TZOFFSETTO:-0700
TZNAME:PDT
DTSTART:20260308T100000
END:DAYLIGHT
BEGIN:STANDARD
TZOFFSETFROM:-0700
TZOFFSETTO:-0800
TZNAME:PST
DTSTART:20261101T090000
END:STANDARD
END:VTIMEZONE
BEGIN:VEVENT
DTSTART;TZID=America/Los_Angeles:20251115T100000
DTEND;TZID=America/Los_Angeles:20251115T150000
DTSTAMP:20260423T025226
CREATED:20251016T203039Z
LAST-MODIFIED:20251016T211155Z
UID:2698-1763200800-1763218800@educatehomebuyers.org
SUMMARY:Unlocking Homeownership in Washington: Your First-Time Buyer WSHFC Seminar
DESCRIPTION:Register in advance for this meeting:\nhttps://us02web.zoom.us/meeting/register/gmY5PFLHSkydj0RdWsq4Ag\nAfter registering\, you will receive a confirmation email containing information about joining the meeting.\nAre you dreaming of owning your first home but feeling overwhelmed by the process? Our First-Time Home Buyer Workshop is designed just for you! In this comprehensive class\, we’ll equip you with the knowledge and tools you need to navigate the exciting journey of purchasing your first home with confidence. \nWhat You’ll Learn: \n\nUnderstanding the Home Buying Process: We’ll demystify the entire home buying process\, from pre-approval to closing\, so you’ll know exactly what to expect every step of the way.\nFinancial Preparedness: Learn about the financial aspects of home buying\, including budgeting for a down payment\, understanding mortgage options\, and managing closing costs.\nExploring Homeownership Programs: Discover the various homeownership programs available to first-time buyers\, including down payment assistance\, grants\, and special loan programs.\nNavigating the Real Estate Market: Gain insights into current market trends\, tips for finding the right neighborhood\, and strategies for making competitive offers in a competitive market.\nHomeownership Responsibilities: Understand the responsibilities that come with homeownership\, including home maintenance\, insurance\, and budgeting for ongoing expenses.\nAvoiding Common Pitfalls: Learn how to avoid common mistakes that first-time buyers often make\, ensuring a smooth and successful home buying experience.\n\nWho Should Attend:    Anyone seeking guidance and support in navigating the home buying process. \n#WashingtonHomeBuyer #DownPaymentHelp #FirstHomeWA #HomeBuyingMadeEasy #LivingInWashington #PNWRealEstate #FirstTimeHomeBuyerWA #DreamHomeWA #DownPaymentAssistanceWA #HomeBuyingTips #RealEstateAdvice #KingCounty #PierceCounty #ThurstonCounty #SnohomishCounty #KitsapCounty
URL:https://educatehomebuyers.org/event/wa-state-homebuyer-education-workshops-4/
LOCATION:Virtual Online Class
CATEGORIES:Jody
ORGANIZER;CN="Jody Tiedeman":MAILTO:jody.tiedeman@newrez.com
END:VEVENT
END:VCALENDAR